BEGIN:VCALENDAR
VERSION:2.0
PRODID:-//CWSC - ECPv6.15.7//NONSGML v1.0//EN
CALSCALE:GREGORIAN
METHOD:PUBLISH
X-ORIGINAL-URL:https://thecwsc.org
X-WR-CALDESC:Events for CWSC
REFRESH-INTERVAL;VALUE=DURATION:PT1H
X-Robots-Tag:noindex
X-PUBLISHED-TTL:PT1H
BEGIN:VTIMEZONE
TZID:UTC
BEGIN:STANDARD
TZOFFSETFROM:+0000
TZOFFSETTO:+0000
TZNAME:UTC
DTSTART:20230101T000000
END:STANDARD
END:VTIMEZONE
BEGIN:VEVENT
DTSTART;TZID=UTC:20240229T150000
DTEND;TZID=UTC:20240229T160000
DTSTAMP:20260423T142621
CREATED:20240225T155754Z
LAST-MODIFIED:20240225T155754Z
UID:959-1709218800-1709222400@thecwsc.org
SUMMARY:Water Wars: Conflict and Diplomacy
DESCRIPTION:Featured Panelists\nLuke Wilson – Co-founder and Deputy Director of the Center for Water Security and Cooperation; Professorial Lecturer in Law\, George Washington University \nDavid Michel – Senior fellow for water security with the Global Food and Water Security Program at the Center for Strategic and International Studies \nAreig Elhag – Journalist and TV presenter at the Middle East Broadcasting Networks
URL:https://thecwsc.org/event/water-wars-conflict-and-diplomacy/
LOCATION:Bloomberg Center\, Room B230  555 Pennsylvania Avenue Northwest Washington\, DC 20001\, Bloomberg Center\, Room B230 555 Pennsylvania Avenue NW\, Washington\, DC\, 20001\, United States
END:VEVENT
BEGIN:VEVENT
DTSTART;TZID=UTC:20240221T080000
DTEND;TZID=UTC:20240221T213000
DTSTAMP:20260423T142621
CREATED:20240225T155249Z
LAST-MODIFIED:20240225T155249Z
UID:956-1708502400-1708551000@thecwsc.org
SUMMARY:Webinar: Plumbing The Depths: An Analysis of NQI WASH in Ghana\, Uganda\, and Zambia
DESCRIPTION:Join us for the launch of our report\, available here. The webinar will present the overall findings of the CWSC’s research as part of the Standards Alliance\, and discuss how the rule of law affects and drives standards internationally.
URL:https://thecwsc.org/event/webinar-plumbing-the-depths-an-analysis-of-nqi-wash-in-ghana-uganda-and-zambia/
LOCATION:Zoom
END:VEVENT
END:VCALENDAR